BEGIN:VCALENDAR
VERSION:2.0
PRODID:icalendar-ruby
CALSCALE:GREGORIAN
METHOD:PUBLISH
BEGIN:VEVENT
DTSTAMP:20260422T113900Z
UID:7-970922@lawnbaptist.com
DTSTART:20260927T140000Z
DTEND:20260927T144500Z
CLASS:PUBLIC
CREATED:20260422T062403
DESCRIPTION:
LAST-MODIFIED:20260422T062403
LOCATION:
SUMMARY:Sunday School / Bible Study
URL;VALUE=URI:https://www.lawnbaptist.com/events/sunday-school-bible-study/
 2026-09-27
ATTACH;FILENAME=bible.png;FMTTYPE=image/png:https://dq5pwpg1q8ru0.cloudfron
 t.net/2021/12/07/15/16/44/c9374b90-d607-469d-872f-14cb4722b7f7/bible.png
END:VEVENT
END:VCALENDAR
